BEGIN:VCALENDAR
PRODID:-//kirchenweb.ch gmbh//veranstaltungsausgabe v2.0//DE
VERSION:2.0
METHOD:PUBLISH
BEGIN:VEVENT
DTSTART:20270320T170000Z
DTEND:20270320T210000Z
LOCATION:Kirchgemeindehaus Adler
TRANSP:OPAQUE
SEQUENCE:0
UID:11978-veranstaltung@evang-waengi.ch
DTSTAMP:20260422T073920Z
DESCRIPTION:Kontakt: mathias.hueberli@evang-waengi.ch\n\nWeitere Infos:
  https://www.evang-waengi.ch/veranstaltung/11978
SUMMARY:Connect Jugendevent
PRIORITY:5
X-MICROSOFT-CDO-IMPORTANCE:1
CLASS:PUBLIC
END:VEVENT
END:VCALENDAR
