BEGIN:VCALENDAR
PRODID:-//kirchenweb.ch gmbh//veranstaltungsausgabe v2.0//DE
VERSION:2.0
METHOD:PUBLISH
BEGIN:VEVENT
DTSTART:20261220T170000Z
DTEND:20261220T210000Z
LOCATION:Kirchgemeindehaus Adler
TRANSP:OPAQUE
SEQUENCE:0
UID:11976-veranstaltung@evang-waengi.ch
DTSTAMP:20260422T073653Z
DESCRIPTION:Kontakt: mathias.hueberli@evang-waengi.ch\n\nWeitere Infos:
  https://www.evang-waengi.ch/veranstaltung/11976
SUMMARY:Connect Jugendevent
PRIORITY:5
X-MICROSOFT-CDO-IMPORTANCE:1
CLASS:PUBLIC
END:VEVENT
END:VCALENDAR
