BEGIN:VCALENDAR
PRODID:-//kirchenweb.ch gmbh//veranstaltungsausgabe v2.0//DE
VERSION:2.0
METHOD:PUBLISH
BEGIN:VEVENT
DTSTART:20260527T173000Z
DTEND:20260527T190000Z
LOCATION:Kirchgemeindehaus Adler
TRANSP:OPAQUE
SEQUENCE:0
UID:11966-veranstaltung@evang-waengi.ch
DTSTAMP:20260407T190058Z
DESCRIPTION:Jesaja\nDIE BIBEL ENTDECKEN ist eine Lesegruppe für Anfänger
  und Fortgeschrittene. Schwerpunkt der Abende ist\, ganze biblische
  Bücher im Zusammenhang zu lesen und den Bezug zum alltäglichen Leben zu
  sehen.\n\nWie verläuft ein Kursabend?\n19:30 Kleingruppen\, in denen wir
  uns über den Bibeltext austauschen. Dabei geht es nicht um «richtig
  oder falsch». Wir wollen uns von Gottes Wort berühren und herausfordern
  lassen!\n20:20 Plenum: Abschliessender Input zum Textabschnitt des Abends
  mit der «Take-away-Message» von Pat und Judith Langloh\, Basel.\n
 \nVorbereitung: Die Teilnehmenden machen sich zu vorgegebenen Leitfragen
  Notizen zum Bibeltext. \n\nZeit und Ort je an einem Mittwoch um 19:30 Uhr
  (ausser Schulferien)\, Adlersaal Wängi\, Dorfstr. 29.\nKosten keine
 \nInfos und Pfr. Lukas Weinhold\, Dorfstr. 34\, Wängi \nAnmeldung:
  lukas.weinhold@evang-waengi.ch oder Tel. 052 378 12 07 \n\n\n\nKontakt:
  Pfr. Lukas Weinhold\n\nWeitere Infos:
  https://www.evang-waengi.ch/veranstaltung/11966
SUMMARY:DIE BIBEL ENTDECKEN
PRIORITY:5
X-MICROSOFT-CDO-IMPORTANCE:1
CLASS:PUBLIC
END:VEVENT
END:VCALENDAR
