BEGIN:VCALENDAR
PRODID:-//kirchenweb.ch gmbh//veranstaltungsausgabe v2.0//DE
VERSION:2.0
METHOD:PUBLISH
BEGIN:VEVENT
DTSTART:20260815T160000Z
DTEND:20260815T200000Z
LOCATION:Kirchgemeindehaus Adler
TRANSP:OPAQUE
SEQUENCE:0
UID:11959-veranstaltung@evang-waengi.ch
DTSTAMP:20260402T064139Z
DESCRIPTION:Kontakt: Jugendarbeiter Mathias Hüberli\n\nWeitere Infos:
  https://www.evang-waengi.ch/veranstaltung/11959
SUMMARY:Connect
PRIORITY:5
X-MICROSOFT-CDO-IMPORTANCE:1
CLASS:PUBLIC
END:VEVENT
END:VCALENDAR
