BEGIN:VCALENDAR
PRODID:-//kirchenweb.ch gmbh//veranstaltungsausgabe v2.0//DE
VERSION:2.0
METHOD:PUBLISH
BEGIN:VEVENT
DTSTART:20260426T173000Z
DTEND:20260426T183000Z
LOCATION:Kapelle Tuttwil
TRANSP:OPAQUE
SEQUENCE:0
UID:11954-veranstaltung@evang-waengi.ch
DTSTAMP:20260424T081533Z
DESCRIPTION:Musik: Ernst Ammann\, Klavier\, Singen: Monika Geyl\n\nWeitere
  Daten:\n \n\nKontakt: Pfr. Hans Geyl\n\nWeitere Infos:
  https://www.evang-waengi.ch/veranstaltung/11954
SUMMARY:Andacht in der Bergkapelle Tuttwil
PRIORITY:5
X-MICROSOFT-CDO-IMPORTANCE:1
CLASS:PUBLIC
END:VEVENT
END:VCALENDAR
