BEGIN:VCALENDAR
PRODID:-//kirchenweb.ch gmbh//veranstaltungsausgabe v2.0//DE
VERSION:2.0
METHOD:PUBLISH
BEGIN:VEVENT
DTSTART:20270211T190000Z
DTEND:20270211T210000Z
LOCATION:Untihaus
TRANSP:OPAQUE
SEQUENCE:0
UID:11945-veranstaltung@evang-waengi.ch
DTSTAMP:20260213T101700Z
DESCRIPTION:Kontakt: Ruth Diel\n\nWeitere Infos:
  https://www.evang-waengi.ch/veranstaltung/11945
SUMMARY:Spielabend
PRIORITY:5
X-MICROSOFT-CDO-IMPORTANCE:1
CLASS:PUBLIC
END:VEVENT
END:VCALENDAR
