BEGIN:VCALENDAR
PRODID:-//kirchenweb.ch gmbh//veranstaltungsausgabe v2.0//DE
VERSION:2.0
METHOD:PUBLISH
BEGIN:VEVENT
DTSTART:20260428T163000Z
DTEND:20260428T173000Z
LOCATION:beim Vereinshaus
TRANSP:OPAQUE
SEQUENCE:0
UID:11941-veranstaltung@evang-waengi.ch
DTSTAMP:20260219T072349Z
DESCRIPTION:Frühlingsbummel mi der Frauengemeinschaft. Mit Grillieren bei
  einer Feuerstelle\, bitte selber etwas zum Grillieren mitnehmen.\n
 \nKontakt: Ruth Diel\n\nWeitere Infos:
  https://www.evang-waengi.ch/veranstaltung/11941
SUMMARY:Frühlingsbummel
PRIORITY:5
X-MICROSOFT-CDO-IMPORTANCE:1
CLASS:PUBLIC
END:VEVENT
END:VCALENDAR
