BEGIN:VCALENDAR
PRODID:-//kirchenweb.ch gmbh//veranstaltungsausgabe v2.0//DE
VERSION:2.0
METHOD:PUBLISH
BEGIN:VEVENT
DTSTART:20260529T170000Z
DTEND:20260529T180000Z
LOCATION:Kirchgemeindehaus Adler
TRANSP:OPAQUE
SEQUENCE:0
UID:11887-veranstaltung@evang-waengi.ch
DTSTAMP:20260123T111518Z
DESCRIPTION:Kontakt: Pfr. Lukas Weinhold\n\nWeitere Infos:
  https://www.evang-waengi.ch/veranstaltung/11887
SUMMARY:Elternabend Konfirmation für den nächsten Jahrgang
PRIORITY:5
X-MICROSOFT-CDO-IMPORTANCE:1
CLASS:PUBLIC
END:VEVENT
END:VCALENDAR
